{
 "currentVersion": 10.8,
 "serviceDescription": "Soil Survey Geographic (SSURGO) Database, 20180907(1:12,000) - Shows the most detailed level of soil geographic data available for Indiana for the fiscal year 2019 (released 20180907), and provides information about the kinds and distribution of soils on the landscape. Attributes include soil map-units ('MAPUNIT_NA'), hydric rating ('HYDCLPRS'), drainage class ('DRCLASSDCD'), potential erosion hazard ('FORPEHRTDC'), and more. Data were obtained by personnel of the Indiana Geological and Water Survey (IGWS) from personnel of the National Resources Conservation Service (NRCS), U.S. Department of Agriculture (USDA). \n\nNOTE: This layer is based on data that were obtained from the NRCS in 20181211. However data and metadata for selected counties possibly have been revised by personnel of the NRCS. For the most current data, users should refer to the Indiana Soils Program Web page of the NRCS ( https://websoilsurvey.sc.egov.usda.gov/App/HomePage.htm )",
 "mapName": "Layers",
 "description": "",
 "copyrightText": "National Resources Conservation Service (NRCS), U.S. Department of Agriculture (USDA)",
 "supportsDynamicLayers": false,
 "layers": [
  {
   "id": 0,
   "name": "Soil Survey (SSURGO) 2019",
   "parentLayerId": -1,
   "defaultVisibility": true,
   "subLayerIds": null,
   "minScale": 0,
   "maxScale": 0,
   "type": "Feature Layer",
   "geometryType": "esriGeometryPolygon"
  }
 ],
 "tables": [],
 "spatialReference": {
  "wkid": 26916,
  "latestWkid": 26916
 },
 "singleFusedMapCache": true,
 "tileInfo": {
  "rows": 512,
  "cols": 512,
  "dpi": 96,
  "format": "PNG32",
  "compressionQuality": 0,
  "origin": {
   "x": -5120900,
   "y": 9998100
  },
  "spatialReference": {
   "wkid": 26916,
   "latestWkid": 26916
  },
  "lods": [
   {
    "level": 0,
    "resolution": 661.4596562526459,
    "scale": 2500000
   },
   {
    "level": 1,
    "resolution": 264.5838625010584,
    "scale": 1000000
   },
   {
    "level": 2,
    "resolution": 132.2919312505292,
    "scale": 500000
   },
   {
    "level": 3,
    "resolution": 66.1459656252646,
    "scale": 250000
   },
   {
    "level": 4,
    "resolution": 33.0729828126323,
    "scale": 125000
   },
   {
    "level": 5,
    "resolution": 16.933367200067735,
    "scale": 64000
   },
   {
    "level": 6,
    "resolution": 8.466683600033868,
    "scale": 32000
   },
   {
    "level": 7,
    "resolution": 4.233341800016934,
    "scale": 16000
   },
   {
    "level": 8,
    "resolution": 2.116670900008467,
    "scale": 8000
   },
   {
    "level": 9,
    "resolution": 1.0583354500042335,
    "scale": 4000
   },
   {
    "level": 10,
    "resolution": 0.5291677250021167,
    "scale": 2000
   },
   {
    "level": 11,
    "resolution": 0.26458386250105836,
    "scale": 1000
   }
  ]
 },
 "initialExtent": {
  "xmin": 337190.4138835324,
  "ymin": 4363172.853296715,
  "xmax": 784998.6011665736,
  "ymax": 4644293.2072040895,
  "spatialReference": {
   "wkid": 26916,
   "latestWkid": 26916
  }
 },
 "fullExtent": {
  "xmin": 403516.2834000001,
  "ymin": 4180904.8271999992,
  "xmax": 692214.3669999996,
  "ymax": 4625477.4987,
  "spatialReference": {
   "wkid": 26916,
   "latestWkid": 26916
  }
 },
 "minScale": 2500000,
 "maxScale": 1000,
 "units": "esriMeters",
 "supportedImageFormatTypes": "PNG32,PNG24,PNG,JPG,DIB,TIFF,EMF,PS,PDF,GIF,SVG,SVGZ,BMP",
 "documentInfo": {
  "Title": "Soil Survey Geographic (SSURGO) Database (2019)",
  "Author": "Indiana Geological and Water Survey",
  "Comments": "Soil Survey Geographic (SSURGO) Database, 20180907(1:12,000) - Shows the most detailed level of soil geographic data available for Indiana for the fiscal year 2019 (released 20180907), and provides information about the kinds and distribution of soils on the landscape. Attributes include soil map-units ('MAPUNIT_NA'), hydric rating ('HYDCLPRS'), drainage class ('DRCLASSDCD'), potential erosion hazard ('FORPEHRTDC'), and more. Data were obtained by personnel of the Indiana Geological and Water Survey (IGWS) from personnel of the National Resources Conservation Service (NRCS), U.S. Department of Agriculture (USDA). \n\nNOTE: This layer is based on data that were obtained from the NRCS in 20181211. However data and metadata for selected counties possibly have been revised by personnel of the NRCS. For the most current data, users should refer to the Indiana Soils Program Web page of the NRCS ( https://websoilsurvey.sc.egov.usda.gov/App/HomePage.htm )",
  "Subject": "Soil Survey Geographic (SSURGO) Database, 20180907 - Shows the most detailed level of soil geographic data available for Indiana (FY2019)",
  "Category": "",
  "AntialiasingMode": "Fast",
  "TextAntialiasingMode": "Force",
  "Keywords": "IndianaMap,IGWS,Indiana,soil survey,soil,SSURGO,Web Soil Survey,boundaries,farming"
 },
 "capabilities": "Map,Query,Data",
 "supportedQueryFormats": "JSON, geoJSON",
 "exportTilesAllowed": false,
 "referenceScale": 0,
 "datumTransformations": [
  {
   "geoTransforms": [
    {
     "wkid": 108001,
     "latestWkid": 1241,
     "transformForward": true,
     "name": "NAD_1927_To_NAD_1983_NADCON"
    }
   ]
  },
  {
   "geoTransforms": [
    {
     "wkid": 108001,
     "latestWkid": 1241,
     "transformForward": false,
     "name": "NAD_1927_To_NAD_1983_NADCON"
    }
   ]
  }
 ],
 "supportsDatumTransformation": true,
 "maxRecordCount": 100,
 "maxImageHeight": 4096,
 "maxImageWidth": 4096,
 "supportedExtensions": "KmlServer, WMSServer"
}
