{
 "currentVersion": 10.8,
 "serviceDescription": "Waste Disposal, Storage and Handling Facilities (IDEM, 20181019) - Shows 741 locations of waste facilities used for the disposal, storage and handling of solid and restricted waste in Indiana, and is provided by personnel of Indiana Department of Environmental Management, Office of Land Quality (IDEM, OLQ). Attributes include site names, regulatory identification numbers (IDEM), IDEM program/sub-program codes, and address information. Data are current as of October 19, 2018. The following is excerpted from the metadata provided by IDEM, OLQ:\n\n\"Solid waste facilities in Indiana fall into two broad categories: disposal facilities and processing facilities. Solid waste managed at those facilities can be classified as either municipal solid waste, construction-demolition waste, special waste, or other wastes. IDEM's Office of Land Quality (OLQ) regulates these facilities and waste types in Indiana.\"\n\n\"Solid waste is any garbage, refuse, sludge, or other discarded material, including solid, liquid, semisolid, or contained gaseous material resulting from industrial, commercial, mining, or agricultural operations or from community activities. See IC 13-11-2-205 for a more detailed definition. The term 'solid waste' is commonly used to refer to solid waste that is not hazardous. According to the definition above, hazardous waste is solid waste. However, hazardous waste is excluded from the solid waste rules at 329 IAC 10, 11 and 12.\"\n\nFor more information about the Solid Waste Program, please visit the following IDEM Web site: \n\n",
 "mapName": "Layers",
 "description": "",
 "copyrightText": "Indiana Department of Environmental Management, Office of Land Quality",
 "supportsDynamicLayers": false,
 "layers": [
  {
   "id": 0,
   "name": "Waste Sites (IDEM) 2018",
   "parentLayerId": -1,
   "defaultVisibility": true,
   "subLayerIds": null,
   "minScale": 0,
   "maxScale": 0,
   "type": "Feature Layer",
   "geometryType": "esriGeometryPoint"
  }
 ],
 "tables": [],
 "spatialReference": {
  "wkid": 26916,
  "latestWkid": 26916
 },
 "singleFusedMapCache": true,
 "tileInfo": {
  "rows": 512,
  "cols": 512,
  "dpi": 96,
  "format": "PNG32",
  "compressionQuality": 0,
  "origin": {
   "x": -5120900,
   "y": 9998100
  },
  "spatialReference": {
   "wkid": 26916,
   "latestWkid": 26916
  },
  "lods": [
   {
    "level": 0,
    "resolution": 661.4596562526459,
    "scale": 2500000
   },
   {
    "level": 1,
    "resolution": 264.5838625010584,
    "scale": 1000000
   },
   {
    "level": 2,
    "resolution": 132.2919312505292,
    "scale": 500000
   },
   {
    "level": 3,
    "resolution": 66.1459656252646,
    "scale": 250000
   },
   {
    "level": 4,
    "resolution": 33.0729828126323,
    "scale": 125000
   },
   {
    "level": 5,
    "resolution": 16.933367200067735,
    "scale": 64000
   },
   {
    "level": 6,
    "resolution": 8.466683600033868,
    "scale": 32000
   },
   {
    "level": 7,
    "resolution": 4.233341800016934,
    "scale": 16000
   },
   {
    "level": 8,
    "resolution": 2.116670900008467,
    "scale": 8000
   },
   {
    "level": 9,
    "resolution": 1.0583354500042335,
    "scale": 4000
   },
   {
    "level": 10,
    "resolution": 0.5291677250021167,
    "scale": 2000
   },
   {
    "level": 11,
    "resolution": 0.26458386250105836,
    "scale": 1000
   }
  ]
 },
 "initialExtent": {
  "xmin": 305957.7467396601,
  "ymin": 4362374.595619693,
  "xmax": 835786.9313980297,
  "ymax": 4643494.949527068,
  "spatialReference": {
   "wkid": 26916,
   "latestWkid": 26916
  }
 },
 "fullExtent": {
  "xmin": 413335.1500000004,
  "ymin": 4195877,
  "xmax": 691345.8198999995,
  "ymax": 4622272.970000001,
  "spatialReference": {
   "wkid": 26916,
   "latestWkid": 26916
  }
 },
 "minScale": 2500000,
 "maxScale": 1000,
 "units": "esriMeters",
 "supportedImageFormatTypes": "PNG32,PNG24,PNG,JPG,DIB,TIFF,EMF,PS,PDF,GIF,SVG,SVGZ,BMP",
 "documentInfo": {
  "Title": "Waste Disposal, Storage and Handling Facilities (IDEM, 20181019)",
  "Author": "Indiana Geological and Water Survey",
  "Comments": "Waste Disposal, Storage and Handling Facilities (IDEM, 20181019) - Shows 741 locations of waste facilities used for the disposal, storage and handling of solid and restricted waste in Indiana, and is provided by personnel of Indiana Department of Environmental Management, Office of Land Quality (IDEM, OLQ). Attributes include site names, regulatory identification numbers (IDEM), IDEM program/sub-program codes, and address information. Data are current as of October 19, 2018. The following is excerpted from the metadata provided by IDEM, OLQ:\n\n\"Solid waste facilities in Indiana fall into two broad categories: disposal facilities and processing facilities. Solid waste managed at those facilities can be classified as either municipal solid waste, construction-demolition waste, special waste, or other wastes. IDEM's Office of Land Quality (OLQ) regulates these facilities and waste types in Indiana.\"\n\n\"Solid waste is any garbage, refuse, sludge, or other discarded material, including solid, liquid, semisolid, or contained gaseous material resulting from industrial, commercial, mining, or agricultural operations or from community activities. See IC 13-11-2-205 for a more detailed definition. The term 'solid waste' is commonly used to refer to solid waste that is not hazardous. According to the definition above, hazardous waste is solid waste. However, hazardous waste is excluded from the solid waste rules at 329 IAC 10, 11 and 12.\"\n\nFor more information about the Solid Waste Program, please visit the following IDEM Web site: https://www.in.gov/idem/landquality/2402.htm",
  "Subject": "Waste Disposal, Storage and Handling Facilities (IDEM, 20181019) - Shows facilities for disposal, storage and handling of waste in Indiana",
  "Category": "",
  "AntialiasingMode": "Fast",
  "TextAntialiasingMode": "Force",
  "Keywords": "IndianaMap,IGWS,Indiana,solid waste,hazardous waste,recycling,medical waste,open dumps,storage,disposal,handling,clean fill,sanitary waste,lagoon,surface impoundment,transfer station,municipal landfill,non-municipal landfill,construction,demolition,incinerator,restricted waste,water quality,contamination,environment"
 },
 "capabilities": "Map,Query,Data",
 "supportedQueryFormats": "JSON, geoJSON",
 "exportTilesAllowed": false,
 "referenceScale": 0,
 "supportsDatumTransformation": true,
 "maxRecordCount": 100,
 "maxImageHeight": 4096,
 "maxImageWidth": 4096,
 "supportedExtensions": "KmlServer, WMSServer"
}
