{
 "currentVersion": 10.8,
 "serviceDescription": "Registered e-Waste Storage Sites (IDEM, 20200402) - Shows registerd e-waste storage facilitiies in Indiana. Provided by personnel of Indiana Department of Environmental Management, Office of Land Quality. Data are current as of April 2, 2020.\n\nThe following is excerpted from the \"Electronic Waste\" web page of IDEM, (for additional information please visit the website at the following URL - https://www.in.gov/idem/recycle/2352.htm):\n\n\"Electronics contain heavy metals, including lead, mercury, cadmium, and hexavalent chromium that can be harmful if released into the environment. Recycling electronics ensures these materials are safely managed and that valuable materials such as steel, glass, and plastic, as well as precious metals such as copper, gold, tin, silicon, and aluminum are reclaimed for the manufacturing of new products. Reusing and recycling raw materials from e-waste conserves natural resources and avoids pollution. Indiana\u2019s E-Cycle Program allows for many electronic devices to be kept out of landfills and incinerators and creates recycling opportunities for Indiana residents.\"\n\n\"The following items are prohibited from being discarded by Indiana households, public (including charter) schools, and small businesses:\"\n\t\t\t\n\"Televisions, Computer monitors, Computers (including desktops, laptops, and tablets), E-readers,Fax machines, Peripherals (including keyboards, mice, external hard drives, printers, all-in-one printer/scanner/copiers, projectors, and any other devices that are sold exclusively for external use with a computer and provide input into or output from a computer), DVD players (including gaming systems that are able to play DVDs), Digital photo frames, Digital media players, iPods/MP3 players, Camcorders/cameras, DVR/TiVo devices (including cable boxes and satellite boxes, but not satellite dishes), Portable GPS navigation systems\"",
 "mapName": "Layers",
 "description": "",
 "copyrightText": "Indiana Department of Environmental Management, Office of Land Quality",
 "supportsDynamicLayers": false,
 "layers": [
  {
   "id": 0,
   "name": "Registered e-Waste Storage Sites (IDEM, 20200402) ",
   "parentLayerId": -1,
   "defaultVisibility": true,
   "subLayerIds": null,
   "minScale": 0,
   "maxScale": 0,
   "type": "Feature Layer",
   "geometryType": "esriGeometryPoint"
  }
 ],
 "tables": [],
 "spatialReference": {
  "wkid": 26916,
  "latestWkid": 26916
 },
 "singleFusedMapCache": true,
 "tileInfo": {
  "rows": 512,
  "cols": 512,
  "dpi": 96,
  "format": "PNG32",
  "compressionQuality": 0,
  "origin": {
   "x": -5120900,
   "y": 9998100
  },
  "spatialReference": {
   "wkid": 26916,
   "latestWkid": 26916
  },
  "lods": [
   {
    "level": 0,
    "resolution": 661.4596562526459,
    "scale": 2500000
   },
   {
    "level": 1,
    "resolution": 264.5838625010584,
    "scale": 1000000
   },
   {
    "level": 2,
    "resolution": 132.2919312505292,
    "scale": 500000
   },
   {
    "level": 3,
    "resolution": 66.1459656252646,
    "scale": 250000
   },
   {
    "level": 4,
    "resolution": 33.0729828126323,
    "scale": 125000
   },
   {
    "level": 5,
    "resolution": 16.933367200067735,
    "scale": 64000
   },
   {
    "level": 6,
    "resolution": 8.466683600033868,
    "scale": 32000
   },
   {
    "level": 7,
    "resolution": 4.233341800016934,
    "scale": 16000
   },
   {
    "level": 8,
    "resolution": 2.116670900008467,
    "scale": 8000
   },
   {
    "level": 9,
    "resolution": 1.0583354500042335,
    "scale": 4000
   },
   {
    "level": 10,
    "resolution": 0.5291677250021167,
    "scale": 2000
   },
   {
    "level": 11,
    "resolution": 0.26458386250105836,
    "scale": 1000
   }
  ]
 },
 "initialExtent": {
  "xmin": 446826.7703405712,
  "ymin": 4383322.941221221,
  "xmax": 817244.1778420529,
  "ymax": 4610203.60331588,
  "spatialReference": {
   "wkid": 26916,
   "latestWkid": 26916
  }
 },
 "fullExtent": {
  "xmin": 450842.93709999975,
  "ymin": 4205164.7585,
  "xmax": 680381.5701000001,
  "ymax": 4590330.883199999,
  "spatialReference": {
   "wkid": 26916,
   "latestWkid": 26916
  }
 },
 "minScale": 2500000,
 "maxScale": 1000,
 "units": "esriMeters",
 "supportedImageFormatTypes": "PNG32,PNG24,PNG,JPG,DIB,TIFF,EMF,PS,PDF,GIF,SVG,SVGZ,BMP",
 "documentInfo": {
  "Title": "Registered e-Waste Storage Sites (IDEM, 20200402)",
  "Author": "Indiana Geological and Water Survey",
  "Comments": "Registered e-Waste Storage Sites (IDEM, 20200402) - Shows registerd e-waste storage facilitiies in Indiana. Provided by personnel of Indiana Department of Environmental Management, Office of Land Quality. Data are current as of April 2, 2020.\n\nThe following is excerpted from the \"Electronic Waste\" web page of IDEM, (for additional information please visit the website at the following URL - https://www.in.gov/idem/recycle/2352.htm):\n\n\"Electronics contain heavy metals, including lead, mercury, cadmium, and hexavalent chromium that can be harmful if released into the environment. Recycling electronics ensures these materials are safely managed and that valuable materials such as steel, glass, and plastic, as well as precious metals such as copper, gold, tin, silicon, and aluminum are reclaimed for the manufacturing of new products. Reusing and recycling raw materials from e-waste conserves natural resources and avoids pollution. Indiana\u2019s E-Cycle Program allows for many electronic devices to be kept out of landfills and incinerators and creates recycling opportunities for Indiana residents.\"\n\n\"The following items are prohibited from being discarded by Indiana households, public (including charter) schools, and small businesses:\"\n\t\t\t\n\"Televisions, Computer monitors, Computers (including desktops, laptops, and tablets), E-readers,Fax machines, Peripherals (including keyboards, mice, external hard drives, printers, all-in-one printer/scanner/copiers, projectors, and any other devices that are sold exclusively for external use with a computer and provide input into or output from a computer), DVD players (including gaming systems that are able to play DVDs), Digital photo frames, Digital media players, iPods/MP3 players, Camcorders/cameras, DVR/TiVo devices (including cable boxes and satellite boxes, but not satellite dishes), Portable GPS navigation systems\"",
  "Subject": "Registered e-Waste Storage Sites (IDEM, 20200402) - Shows registerd e-waste storage facilitiies in Indiana",
  "Category": "",
  "AntialiasingMode": "Fast",
  "TextAntialiasingMode": "Force",
  "Keywords": "IndianaMap,IGWS,Indiana,e-waste,electronics,storage facility,e-recycling,environment"
 },
 "capabilities": "Map,Query,Data",
 "supportedQueryFormats": "JSON, geoJSON",
 "exportTilesAllowed": false,
 "referenceScale": 0,
 "datumTransformations": [
  {
   "geoTransforms": [
    {
     "wkid": 108001,
     "latestWkid": 1241,
     "transformForward": true,
     "name": "NAD_1927_To_NAD_1983_NADCON"
    }
   ]
  },
  {
   "geoTransforms": [
    {
     "wkid": 108001,
     "latestWkid": 1241,
     "transformForward": false,
     "name": "NAD_1927_To_NAD_1983_NADCON"
    }
   ]
  }
 ],
 "supportsDatumTransformation": true,
 "maxRecordCount": 100,
 "maxImageHeight": 4096,
 "maxImageWidth": 4096,
 "supportedExtensions": "KmlServer, WMSServer"
}
