{
 "currentVersion": 10.8,
 "serviceDescription": "Public-use Airports, 2005 - Shows locations of 109 public-use airports in Indiana, derived from data provided by personnel of the Indiana Department of Transportation (INDOT), Aeronautics Section. Personnel of INDOT obtained the data from the airport application/ FAA Master Record on file at the Indiana Department of Transportation, Aeronautics Section. The data is collected as part of the application for an airport site.",
 "mapName": "Layers",
 "description": "",
 "copyrightText": " Indiana Department of Transportation, Aeronautics Section, Multi-Modal Transportation Division, Federal Aviation Administration (FAA)",
 "supportsDynamicLayers": false,
 "layers": [
  {
   "id": 0,
   "name": "Airports - Public (INDOT)",
   "parentLayerId": -1,
   "defaultVisibility": true,
   "subLayerIds": null,
   "minScale": 0,
   "maxScale": 0,
   "type": "Feature Layer",
   "geometryType": "esriGeometryPoint"
  }
 ],
 "tables": [],
 "spatialReference": {
  "wkid": 26916,
  "latestWkid": 26916
 },
 "singleFusedMapCache": true,
 "tileInfo": {
  "rows": 512,
  "cols": 512,
  "dpi": 96,
  "format": "PNG32",
  "compressionQuality": 0,
  "origin": {
   "x": -5120900,
   "y": 9998100
  },
  "spatialReference": {
   "wkid": 26916,
   "latestWkid": 26916
  },
  "lods": [
   {
    "level": 0,
    "resolution": 661.4596562526459,
    "scale": 2500000
   },
   {
    "level": 1,
    "resolution": 264.5838625010584,
    "scale": 1000000
   },
   {
    "level": 2,
    "resolution": 132.2919312505292,
    "scale": 500000
   },
   {
    "level": 3,
    "resolution": 66.1459656252646,
    "scale": 250000
   },
   {
    "level": 4,
    "resolution": 33.0729828126323,
    "scale": 125000
   },
   {
    "level": 5,
    "resolution": 16.933367200067735,
    "scale": 64000
   },
   {
    "level": 6,
    "resolution": 8.466683600033868,
    "scale": 32000
   },
   {
    "level": 7,
    "resolution": 4.233341800016934,
    "scale": 16000
   },
   {
    "level": 8,
    "resolution": 2.116670900008467,
    "scale": 8000
   },
   {
    "level": 9,
    "resolution": 1.0583354500042335,
    "scale": 4000
   },
   {
    "level": 10,
    "resolution": 0.5291677250021167,
    "scale": 2000
   },
   {
    "level": 11,
    "resolution": 0.26458386250105836,
    "scale": 1000
   }
  ]
 },
 "initialExtent": {
  "xmin": 177421.75904531777,
  "ymin": 4391088.518265536,
  "xmax": 955959.7744546819,
  "ymax": 4636490.050735267,
  "spatialReference": {
   "wkid": 26916,
   "latestWkid": 26916
  }
 },
 "fullExtent": {
  "xmin": 432197.39032108895,
  "ymin": 4207829.3816160485,
  "xmax": 684799.0898843426,
  "ymax": 4620649.256816518,
  "spatialReference": {
   "wkid": 26916,
   "latestWkid": 26916
  }
 },
 "minScale": 2500000,
 "maxScale": 1000,
 "units": "esriMeters",
 "supportedImageFormatTypes": "PNG32,PNG24,PNG,JPG,DIB,TIFF,EMF,PS,PDF,GIF,SVG,SVGZ,BMP",
 "documentInfo": {
  "Title": "Public-Use Airports, (2005) (INDOT)",
  "Author": "Indiana Geological Survey",
  "Comments": "Public-use Airports, 2005 - Shows locations of 109 public-use airports in Indiana, derived from data provided by personnel of the Indiana Department of Transportation (INDOT), Aeronautics Section. Personnel of INDOT obtained the data from the airport application/ FAA Master Record on file at the Indiana Department of Transportation, Aeronautics Section. The data is collected as part of the application for an airport site.",
  "Subject": "Public-use Airports, 2005 - Shows locations of 109 public use airports in Indiana, derived from data provided by INDOT based on FAA Master Records",
  "Category": "",
  "AntialiasingMode": "None",
  "TextAntialiasingMode": "Force",
  "Keywords": "IndianaMap,IGS,Indiana,airport,public,runway,aircraft,transportation"
 },
 "capabilities": "Map,Query,Data",
 "supportedQueryFormats": "JSON, geoJSON",
 "exportTilesAllowed": false,
 "referenceScale": 0,
 "datumTransformations": [
  {
   "geoTransforms": [
    {
     "wkid": 108001,
     "latestWkid": 1241,
     "transformForward": true,
     "name": "NAD_1927_To_NAD_1983_NADCON"
    }
   ]
  },
  {
   "geoTransforms": [
    {
     "wkid": 108001,
     "latestWkid": 1241,
     "transformForward": false,
     "name": "NAD_1927_To_NAD_1983_NADCON"
    }
   ]
  }
 ],
 "supportsDatumTransformation": true,
 "maxRecordCount": 100,
 "maxImageHeight": 2048,
 "maxImageWidth": 2048,
 "supportedExtensions": "KmlServer, WMSServer"
}
