{
 "currentVersion": 10.8,
 "serviceDescription": "Hospitals (IDHS), 2009 - Shows all general medical or surgical hospitals in Indiana. Other types of hospitals are included if they were represented in datasets provided by IDHS. Therefore, not all of the specialty hospitals in Indiana are represented. Developed for the Homeland Security Infrastructure Program (HSIP). The data were provided by personnel of Indiana Department of Homeland Security (IDHS) on June 29, 2009.",
 "mapName": "Layers",
 "description": "",
 "copyrightText": "Indiana Department of Homeland Security (IDHS), Homeland Security Infrastructure Program (HSIP)",
 "supportsDynamicLayers": false,
 "layers": [
  {
   "id": 0,
   "name": "Hospitals (IDHS)",
   "parentLayerId": -1,
   "defaultVisibility": true,
   "subLayerIds": null,
   "minScale": 0,
   "maxScale": 0,
   "type": "Feature Layer",
   "geometryType": "esriGeometryPoint"
  }
 ],
 "tables": [],
 "spatialReference": {
  "wkid": 26916,
  "latestWkid": 26916
 },
 "singleFusedMapCache": true,
 "tileInfo": {
  "rows": 512,
  "cols": 512,
  "dpi": 96,
  "format": "PNG32",
  "compressionQuality": 0,
  "origin": {
   "x": -5120900,
   "y": 9998100
  },
  "spatialReference": {
   "wkid": 26916,
   "latestWkid": 26916
  },
  "lods": [
   {
    "level": 0,
    "resolution": 661.4596562526459,
    "scale": 2500000
   },
   {
    "level": 1,
    "resolution": 264.5838625010584,
    "scale": 1000000
   },
   {
    "level": 2,
    "resolution": 132.2919312505292,
    "scale": 500000
   },
   {
    "level": 3,
    "resolution": 66.1459656252646,
    "scale": 250000
   },
   {
    "level": 4,
    "resolution": 33.0729828126323,
    "scale": 125000
   },
   {
    "level": 5,
    "resolution": 16.933367200067735,
    "scale": 64000
   },
   {
    "level": 6,
    "resolution": 8.466683600033868,
    "scale": 32000
   },
   {
    "level": 7,
    "resolution": 4.233341800016934,
    "scale": 16000
   },
   {
    "level": 8,
    "resolution": 2.116670900008467,
    "scale": 8000
   },
   {
    "level": 9,
    "resolution": 1.0583354500042335,
    "scale": 4000
   },
   {
    "level": 10,
    "resolution": 0.5291677250021167,
    "scale": 2000
   },
   {
    "level": 11,
    "resolution": 0.26458386250105836,
    "scale": 1000
   }
  ]
 },
 "initialExtent": {
  "xmin": 68667.23821369512,
  "ymin": 4386344.129648758,
  "xmax": 847205.2536230593,
  "ymax": 4631745.662118489,
  "spatialReference": {
   "wkid": 26916,
   "latestWkid": 26916
  }
 },
 "fullExtent": {
  "xmin": 448448.6118000001,
  "ymin": 4197848.993000001,
  "xmax": 683090.5438999999,
  "ymax": 4617196.3835,
  "spatialReference": {
   "wkid": 26916,
   "latestWkid": 26916
  }
 },
 "minScale": 2500000,
 "maxScale": 1000,
 "units": "esriMeters",
 "supportedImageFormatTypes": "PNG32,PNG24,PNG,JPG,DIB,TIFF,EMF,PS,PDF,GIF,SVG,SVGZ,BMP",
 "documentInfo": {
  "Title": "Hospitals (IDHS) (2009) ",
  "Author": "Indiana Geological Survey",
  "Comments": "Hospitals (IDHS), 2009 - Shows all general medical or surgical hospitals in Indiana. Other types of hospitals are included if they were represented in datasets provided by IDHS. Therefore, not all of the specialty hospitals in Indiana are represented. Developed for the Homeland Security Infrastructure Program (HSIP). The data were provided by personnel of Indiana Department of Homeland Security (IDHS) on June 29, 2009.",
  "Subject": "Hospitals (IDHS), 2009 - Shows general medical or surgical hospitals in Indiana, provided by the Indiana Department of Homeland Security",
  "Category": "",
  "AntialiasingMode": "None",
  "TextAntialiasingMode": "Force",
  "Keywords": "IndianaMap,IGS,Indiana,hospital,medical hospital,surgical hospital,general hospital,specialty hospital,veterans' hospital,prison hospital,public hospital,psychiatric hospital,substance abuse treatment facility,location,structure"
 },
 "capabilities": "Map,Query,Data",
 "supportedQueryFormats": "JSON, geoJSON",
 "exportTilesAllowed": false,
 "referenceScale": 0,
 "datumTransformations": [
  {
   "geoTransforms": [
    {
     "wkid": 108001,
     "latestWkid": 1241,
     "transformForward": true,
     "name": "NAD_1927_To_NAD_1983_NADCON"
    }
   ]
  },
  {
   "geoTransforms": [
    {
     "wkid": 108001,
     "latestWkid": 1241,
     "transformForward": false,
     "name": "NAD_1927_To_NAD_1983_NADCON"
    }
   ]
  }
 ],
 "supportsDatumTransformation": true,
 "maxRecordCount": 100,
 "maxImageHeight": 2048,
 "maxImageWidth": 2048,
 "supportedExtensions": "KmlServer, WMSServer"
}
