{
 "currentVersion": 10.91,
 "serviceDescription": "Mile Markers - System 1 Roads (INDOT), 2015 - Shows mile markers for System 1 roads that include Interstates, U.S. Highways, State Routes, Ramps, Institutional Roads (roads in state university properties, state hospitals, Indiana National Guard properties), and roads in properties owned by the Indiana Department of Natural Resources and maintained by INDOT. Each Reference Post point Inventory is placed as to Position, Measure, and by Reference Post Name. The posts are \"names\" for known spots on the road. The names are sequentially numbered along the road. The Reference Post point Inventory is Dated as of 2006-2015. The data set was compiled by Road Inventory of the Indiana GIS Department of Transportation (INDOT).",
 "mapName": "Layers",
 "description": "",
 "copyrightText": "Indiana Department of Transportation (INDOT), Business Information and Technology Systems, GIS Mapping",
 "supportsDynamicLayers": false,
 "layers": [
  {
   "id": 0,
   "name": "Mile Markers - System 1 (INDOT)",
   "parentLayerId": -1,
   "defaultVisibility": true,
   "subLayerIds": null,
   "minScale": 0,
   "maxScale": 0,
   "type": "Feature Layer",
   "geometryType": "esriGeometryPoint"
  }
 ],
 "tables": [],
 "spatialReference": {
  "wkid": 26916,
  "latestWkid": 26916
 },
 "singleFusedMapCache": true,
 "tileInfo": {
  "rows": 512,
  "cols": 512,
  "dpi": 96,
  "format": "PNG32",
  "compressionQuality": 0,
  "origin": {
   "x": -5120900,
   "y": 9998100
  },
  "spatialReference": {
   "wkid": 26916,
   "latestWkid": 26916
  },
  "lods": [
   {
    "level": 0,
    "resolution": 661.4596562526459,
    "scale": 2500000
   },
   {
    "level": 1,
    "resolution": 264.5838625010584,
    "scale": 1000000
   },
   {
    "level": 2,
    "resolution": 132.2919312505292,
    "scale": 500000
   },
   {
    "level": 3,
    "resolution": 66.1459656252646,
    "scale": 250000
   },
   {
    "level": 4,
    "resolution": 33.0729828126323,
    "scale": 125000
   },
   {
    "level": 5,
    "resolution": 16.933367200067735,
    "scale": 64000
   },
   {
    "level": 6,
    "resolution": 8.466683600033868,
    "scale": 32000
   },
   {
    "level": 7,
    "resolution": 4.233341800016934,
    "scale": 16000
   },
   {
    "level": 8,
    "resolution": 2.116670900008467,
    "scale": 8000
   },
   {
    "level": 9,
    "resolution": 1.0583354500042335,
    "scale": 4000
   },
   {
    "level": 10,
    "resolution": 0.5291677250021167,
    "scale": 2000
   },
   {
    "level": 11,
    "resolution": 0.26458386250105836,
    "scale": 1000
   }
  ]
 },
 "initialExtent": {
  "xmin": 320646.12141491397,
  "ymin": 4356827.922225026,
  "xmax": 850475.3060732833,
  "ymax": 4637948.276132401,
  "spatialReference": {
   "wkid": 26916,
   "latestWkid": 26916
  }
 },
 "fullExtent": {
  "xmin": 410230.91559999995,
  "ymin": 4181699.010500001,
  "xmax": 691368.6431999998,
  "ymax": 4624294.514799999,
  "spatialReference": {
   "wkid": 26916,
   "latestWkid": 26916
  }
 },
 "minScale": 2500000,
 "maxScale": 1000,
 "units": "esriMeters",
 "supportedImageFormatTypes": "PNG32,PNG24,PNG,JPG,DIB,TIFF,EMF,PS,PDF,GIF,SVG,SVGZ,BMP",
 "documentInfo": {
  "Title": "Mile Markers - System 1 Roads (INDOT) (2015)",
  "Author": "Indiana Geological Survey",
  "Comments": "Mile Markers - System 1 Roads (INDOT), 2015 - Shows mile markers for System 1 roads that include Interstates, U.S. Highways, State Routes, Ramps, Institutional Roads (roads in state university properties, state hospitals, Indiana National Guard properties), and roads in properties owned by the Indiana Department of Natural Resources and maintained by INDOT. Each Reference Post point Inventory is placed as to Position, Measure, and by Reference Post Name. The posts are \"names\" for known spots on the road. The names are sequentially numbered along the road. The Reference Post point Inventory is Dated as of 2006-2015. The data set was compiled by Road Inventory of the Indiana GIS Department of Transportation (INDOT).",
  "Subject": "Mile Markers - System 1 Roads (INDOT), 2015 - Shows mile markers for System 1 roads, includes interstates, U.S. highways, state routes, ramps, etc.",
  "Category": "",
  "AntialiasingMode": "Fast",
  "TextAntialiasingMode": "Force",
  "Keywords": "IndianaMap,IGS,Indiana,transportation,system 1 road,interstate,highway,road,state road,state route,mile-marker,mile reference post,mile post,mile,marker"
 },
 "capabilities": "Map,Query,Data",
 "supportedQueryFormats": "JSON, geoJSON",
 "exportTilesAllowed": false,
 "referenceScale": 0,
 "datumTransformations": [
  {
   "geoTransforms": [
    {
     "wkid": 108001,
     "latestWkid": 1241,
     "transformForward": true,
     "name": "NAD_1927_To_NAD_1983_NADCON"
    }
   ]
  },
  {
   "geoTransforms": [
    {
     "wkid": 108001,
     "latestWkid": 1241,
     "transformForward": false,
     "name": "NAD_1927_To_NAD_1983_NADCON"
    }
   ]
  }
 ],
 "supportsDatumTransformation": true,
 "maxRecordCount": 100,
 "maxImageHeight": 4096,
 "maxImageWidth": 4096,
 "supportedExtensions": "KmlServer, WMSServer"
}
