{
 "currentVersion": 10.8,
 "serviceDescription": "ZIP Code Tabulation Areas, 2005 (1:100,000) - Shows ZIP Code Tabulation Areas (ZCTAs), which are a statistical entity developed by the U.S. Census Bureau for tabulating summary statistics from Census 2000. ZCTAs are generalized representations of U.S. Postal Service (USPS) ZIP Code service areas. ZCTAs follow census block boundaries, are not exact representations of the USPS ZIP Code delivery areas, and are not stable over time. This data set has been updated using the U.S. Census Bureau Census 2005 TIGER/Line Files (First Edition), which contain updated ZCTAs reflecting U.S. Postal Service ZIP Code changes through October, 2002. There will be no further updates of ZCTAs until required for the 2010 Census.",
 "mapName": "Layers",
 "description": "",
 "copyrightText": "U.S. Census Bureau",
 "supportsDynamicLayers": false,
 "layers": [
  {
   "id": 0,
   "name": "ZIP Code Tabulation Areas 2005",
   "parentLayerId": -1,
   "defaultVisibility": true,
   "subLayerIds": null,
   "minScale": 0,
   "maxScale": 0,
   "type": "Feature Layer",
   "geometryType": "esriGeometryPolygon"
  }
 ],
 "tables": [],
 "spatialReference": {
  "wkid": 26916,
  "latestWkid": 26916
 },
 "singleFusedMapCache": true,
 "tileInfo": {
  "rows": 512,
  "cols": 512,
  "dpi": 96,
  "format": "PNG32",
  "compressionQuality": 0,
  "origin": {
   "x": -5120900,
   "y": 9998100
  },
  "spatialReference": {
   "wkid": 26916,
   "latestWkid": 26916
  },
  "lods": [
   {
    "level": 0,
    "resolution": 661.4596562526459,
    "scale": 2500000
   },
   {
    "level": 1,
    "resolution": 264.5838625010584,
    "scale": 1000000
   },
   {
    "level": 2,
    "resolution": 132.2919312505292,
    "scale": 500000
   },
   {
    "level": 3,
    "resolution": 66.1459656252646,
    "scale": 250000
   },
   {
    "level": 4,
    "resolution": 33.0729828126323,
    "scale": 125000
   },
   {
    "level": 5,
    "resolution": 16.933367200067735,
    "scale": 64000
   },
   {
    "level": 6,
    "resolution": 8.466683600033868,
    "scale": 32000
   },
   {
    "level": 7,
    "resolution": 4.233341800016934,
    "scale": 16000
   },
   {
    "level": 8,
    "resolution": 2.116670900008467,
    "scale": 8000
   },
   {
    "level": 9,
    "resolution": 1.0583354500042335,
    "scale": 4000
   },
   {
    "level": 10,
    "resolution": 0.5291677250021167,
    "scale": 2000
   },
   {
    "level": 11,
    "resolution": 0.26458386250105836,
    "scale": 1000
   }
  ]
 },
 "initialExtent": {
  "xmin": 158556.43080947467,
  "ymin": 4381037.326874847,
  "xmax": 937094.4462188388,
  "ymax": 4626438.859344577,
  "spatialReference": {
   "wkid": 26916,
   "latestWkid": 26916
  }
 },
 "fullExtent": {
  "xmin": 403477.78781972267,
  "ymin": 4180917.009536296,
  "xmax": 692173.0892085908,
  "ymax": 4625475.441182325,
  "spatialReference": {
   "wkid": 26916,
   "latestWkid": 26916
  }
 },
 "minScale": 2500000,
 "maxScale": 1000,
 "units": "esriMeters",
 "supportedImageFormatTypes": "PNG32,PNG24,PNG,JPG,DIB,TIFF,EMF,PS,PDF,GIF,SVG,SVGZ,BMP",
 "documentInfo": {
  "Title": "ZIP Code Tabulation Areas (2005)",
  "Author": "Indiana Geological Survey",
  "Comments": "ZIP Code Tabulation Areas, 2005 (1:100,000) - Shows ZIP Code Tabulation Areas (ZCTAs), which are a statistical entity developed by the U.S. Census Bureau for tabulating summary statistics from Census 2000. ZCTAs are generalized representations of U.S. Postal Service (USPS) ZIP Code service areas. ZCTAs follow census block boundaries, are not exact representations of the USPS ZIP Code delivery areas, and are not stable over time. This data set has been updated using the U.S. Census Bureau Census 2005 TIGER/Line Files (First Edition), which contain updated ZCTAs reflecting U.S. Postal Service ZIP Code changes through October, 2002. There will be no further updates of ZCTAs until required for the 2010 Census.",
  "Subject": "ZIP Code Tabulation Areas, 2005 - Shows generalized representations of U.S. Postal Service (USPS) ZIP Code service areas, created by the USCB",
  "Category": "",
  "AntialiasingMode": "None",
  "TextAntialiasingMode": "Force",
  "Keywords": "IndianaMap,IGS,Indiana,zip code,zip code tabulation area,TIGER/Line,boundaries"
 },
 "capabilities": "Map,Query,Data",
 "supportedQueryFormats": "JSON, geoJSON",
 "exportTilesAllowed": false,
 "referenceScale": 0,
 "datumTransformations": [
  {
   "geoTransforms": [
    {
     "wkid": 108001,
     "latestWkid": 1241,
     "transformForward": true,
     "name": "NAD_1927_To_NAD_1983_NADCON"
    }
   ]
  },
  {
   "geoTransforms": [
    {
     "wkid": 108001,
     "latestWkid": 1241,
     "transformForward": false,
     "name": "NAD_1927_To_NAD_1983_NADCON"
    }
   ]
  }
 ],
 "supportsDatumTransformation": true,
 "maxRecordCount": 1000,
 "maxImageHeight": 2048,
 "maxImageWidth": 2048,
 "supportedExtensions": "KmlServer, WMSServer"
}
